0.2500000000
0.0000000000
0.0000000000
-0.2500000000
414636.3750000000
350917.6250000000
