0.2500000000
0.0000000000
0.0000000000
-0.2500000000
418088.8750000000
353057.3750000000
