0.2500000000
0.0000000000
0.0000000000
-0.2500000000
418181.1250000000
355333.8750000000
