0.2500000000
0.0000000000
0.0000000000
-0.2500000000
414728.8750000000
353193.8750000000
