0.2500000000
0.0000000000
0.0000000000
-0.2500000000
414821.6250000000
355470.1250000000
