0.2500000000
0.0000000000
0.0000000000
-0.2500000000
418273.3750000000
357610.1250000000
