0.2500000000
0.0000000000
0.0000000000
-0.2500000000
418365.6250000000
359886.3750000000
