0.2500000000
0.0000000000
0.0000000000
-0.2500000000
414914.1250000000
357746.3750000000
