0.2500000000
0.0000000000
0.0000000000
-0.2500000000
435251.1250000000
361488.6250000000
