0.2500000000
0.0000000000
0.0000000000
-0.2500000000
435341.6250000000
363765.1250000000
