0.2500000000
0.0000000000
0.0000000000
-0.2500000000
431892.6250000000
361622.3750000000
