0.2500000000
0.0000000000
0.0000000000
-0.2500000000
431983.3750000000
363898.8750000000
