0.2500000000
0.0000000000
0.0000000000
-0.2500000000
428533.8750000000
361756.6250000000
