0.2500000000
0.0000000000
0.0000000000
-0.2500000000
428625.1250000000
364033.1250000000
