0.2500000000
0.0000000000
0.0000000000
-0.2500000000
425175.1250000000
361891.6250000000
