0.2500000000
0.0000000000
0.0000000000
-0.2500000000
425266.6250000000
364167.8750000000
