0.2500000000
0.0000000000
0.0000000000
-0.2500000000
421816.3750000000
362026.8750000000
