0.2500000000
0.0000000000
0.0000000000
-0.2500000000
421908.3750000000
364303.1250000000
