0.2500000000
0.0000000000
0.0000000000
-0.2500000000
435432.1250000000
366041.3750000000
