0.2500000000
0.0000000000
0.0000000000
-0.2500000000
432074.1250000000
366175.1250000000
