0.2500000000
0.0000000000
0.0000000000
-0.2500000000
432165.1250000000
368451.3750000000
