0.2500000000
0.0000000000
0.0000000000
-0.2500000000
428807.3750000000
368585.6250000000
