0.2500000000
0.0000000000
0.0000000000
-0.2500000000
425358.1250000000
366444.1250000000
