0.2500000000
0.0000000000
0.0000000000
-0.2500000000
425449.8750000000
368720.3750000000
