0.2500000000
0.0000000000
0.0000000000
-0.2500000000
422000.3750000000
366579.3750000000
