0.2500000000
0.0000000000
0.0000000000
-0.2500000000
422092.1250000000
368855.6250000000
