0.2500000000
0.0000000000
0.0000000000
-0.2500000000
428898.6250000000
370862.1250000000
