0.2500000000
0.0000000000
0.0000000000
-0.2500000000
425541.3750000000
370996.8750000000
