0.2500000000
0.0000000000
0.0000000000
-0.2500000000
422184.1250000000
371132.1250000000
