0.2500000000
0.0000000000
0.0000000000
-0.2500000000
418457.8750000000
362162.6250000000
