0.2500000000
0.0000000000
0.0000000000
-0.2500000000
418550.1250000000
364438.8750000000
