0.2500000000
0.0000000000
0.0000000000
-0.2500000000
418642.3750000000
366715.1250000000
