0.2500000000
0.0000000000
0.0000000000
-0.2500000000
464606.6250000000
337542.6250000000
