0.2500000000
0.0000000000
0.0000000000
-0.2500000000
461244.3750000000
337672.1250000000
