0.2500000000
0.0000000000
0.0000000000
-0.2500000000
461332.1250000000
339948.6250000000
