0.2500000000
0.0000000000
0.0000000000
-0.2500000000
457882.1250000000
337801.8750000000
