0.2500000000
0.0000000000
0.0000000000
-0.2500000000
457970.1250000000
340078.3750000000
