0.2500000000
0.0000000000
0.0000000000
-0.2500000000
454519.6250000000
337932.1250000000
