0.2500000000
0.0000000000
0.0000000000
-0.2500000000
454608.1250000000
340208.6250000000
