0.2500000000
0.0000000000
0.0000000000
-0.2500000000
461419.8750000000
342225.1250000000
