0.2500000000
0.0000000000
0.0000000000
-0.2500000000
458058.1250000000
342354.8750000000
