0.2500000000
0.0000000000
0.0000000000
-0.2500000000
458146.1250000000
344631.3750000000
