0.2500000000
0.0000000000
0.0000000000
-0.2500000000
454696.6250000000
342485.1250000000
