0.2500000000
0.0000000000
0.0000000000
-0.2500000000
454784.8750000000
344761.6250000000
