0.2500000000
0.0000000000
0.0000000000
-0.2500000000
454873.3750000000
347038.1250000000
