0.2500000000
0.0000000000
0.0000000000
-0.2500000000
451157.3750000000
338063.1250000000
