0.2500000000
0.0000000000
0.0000000000
-0.2500000000
451246.1250000000
340339.3750000000
