0.2500000000
0.0000000000
0.0000000000
-0.2500000000
447795.1250000000
338194.3750000000
