0.2500000000
0.0000000000
0.0000000000
-0.2500000000
447884.1250000000
340470.8750000000
