0.2500000000
0.0000000000
0.0000000000
-0.2500000000
444432.8750000000
338326.1250000000
